BEGIN:VCALENDAR
VERSION:2.0
PRODID:-//ACRA - ECPv6.0.9//NONSGML v1.0//EN
CALSCALE:GREGORIAN
METHOD:PUBLISH
X-WR-CALNAME:ACRA
X-ORIGINAL-URL:https://www.acra.net.au
X-WR-CALDESC:Events for ACRA
REFRESH-INTERVAL;VALUE=DURATION:PT1H
X-Robots-Tag:noindex
X-PUBLISHED-TTL:PT1H
BEGIN:VTIMEZONE
TZID:Australia/Melbourne
BEGIN:STANDARD
TZOFFSETFROM:+1100
TZOFFSETTO:+1000
TZNAME:AEST
DTSTART:20220402T160000
END:STANDARD
BEGIN:DAYLIGHT
TZOFFSETFROM:+1000
TZOFFSETTO:+1100
TZNAME:AEDT
DTSTART:20221001T160000
END:DAYLIGHT
END:VTIMEZONE
BEGIN:VEVENT
DTSTART;VALUE=DATE:20220203
DTEND;VALUE=DATE:20220204
DTSTAMP:20260423T201823
CREATED:20220130T234306Z
LAST-MODIFIED:20220130T234306Z
UID:647372-1643846400-1643932799@www.acra.net.au
SUMMARY:Heart Rhythm Alliance Virtual Patient Event: Living with a Pacemaker
DESCRIPTION:Join a free virtual patient and clinician education event run by the Heart Rhythm Alliance – Living with a Pacemaker. The session will include: \n• What is a pacemaker?• Why do I need a pacemaker?• How is a pacemaker implanted?• What happens after the pacemaker is implanted?• What is remote monitoring? \nYour free registration will include:\n\nAccess to the patient educational event\nAbility to view ‘on-demand’ after the event\n\n 
URL:https://www.acra.net.au/event/heart-rhythm-alliance-virtual-patient-event-living-with-a-pacemaker/
LOCATION:Webinar
END:VEVENT
END:VCALENDAR