BEGIN:VCALENDAR
VERSION:2.0
PRODID:-//ACRA - ECPv6.0.9//NONSGML v1.0//EN
CALSCALE:GREGORIAN
METHOD:PUBLISH
X-WR-CALNAME:ACRA
X-ORIGINAL-URL:https://www.acra.net.au
X-WR-CALDESC:Events for ACRA
REFRESH-INTERVAL;VALUE=DURATION:PT1H
X-Robots-Tag:noindex
X-PUBLISHED-TTL:PT1H
BEGIN:VTIMEZONE
TZID:Australia/Melbourne
BEGIN:STANDARD
TZOFFSETFROM:+1100
TZOFFSETTO:+1000
TZNAME:AEST
DTSTART:20210403T160000
END:STANDARD
BEGIN:DAYLIGHT
TZOFFSETFROM:+1000
TZOFFSETTO:+1100
TZNAME:AEDT
DTSTART:20211002T160000
END:DAYLIGHT
END:VTIMEZONE
BEGIN:VEVENT
DTSTART;TZID=Australia/Melbourne:20210416T080000
DTEND;TZID=Australia/Melbourne:20210416T170000
DTSTAMP:20260424T091834
CREATED:20210308T120805Z
LAST-MODIFIED:20210308T120805Z
UID:646916-1618560000-1618592400@www.acra.net.au
SUMMARY:Fantastic Five Webinar: Women & Heart Disease
DESCRIPTION:Fantastic Five Webinar: Women & Heart Disease presented by ACRA NSW/ACT \nRecording available after online event
URL:https://www.acra.net.au/event/fantastic-five-webinar-women-heart-disease/
LOCATION:Online
ORGANIZER;CN="CRA%20NSW%2FACT":MAILTO:cranswact@acra.net.au
END:VEVENT
END:VCALENDAR