BEGIN:VCALENDAR
VERSION:2.0
PRODID:-//ACRA - ECPv6.0.9//NONSGML v1.0//EN
CALSCALE:GREGORIAN
METHOD:PUBLISH
X-WR-CALNAME:ACRA
X-ORIGINAL-URL:https://www.acra.net.au
X-WR-CALDESC:Events for ACRA
REFRESH-INTERVAL;VALUE=DURATION:PT1H
X-Robots-Tag:noindex
X-PUBLISHED-TTL:PT1H
BEGIN:VTIMEZONE
TZID:Australia/Melbourne
BEGIN:STANDARD
TZOFFSETFROM:+1100
TZOFFSETTO:+1000
TZNAME:AEST
DTSTART:20200404T160000
END:STANDARD
BEGIN:DAYLIGHT
TZOFFSETFROM:+1000
TZOFFSETTO:+1100
TZNAME:AEDT
DTSTART:20201003T160000
END:DAYLIGHT
END:VTIMEZONE
BEGIN:VEVENT
DTSTART;TZID=Australia/Melbourne:20200923T170000
DTEND;TZID=Australia/Melbourne:20200923T190000
DTSTAMP:20260424T172202
CREATED:20200922T071217Z
LAST-MODIFIED:20200922T071514Z
UID:607042-1600880400-1600887600@www.acra.net.au
SUMMARY:ACRA Annual General Meeting
DESCRIPTION:The Australian Cardiovascular Health and Rehabilitation Association Inc. (ACRA) Annual General Meeting (AGM) will be held during the ACRA webinar on Wednesday\, 23rd September 2020 at 5.00pm AEST.  \nPlease find the meeting papers\, including the Agenda for the 2020 AGM\, Minutes of the 2019 AGM\, Proxy Nomination Form and Financial reports here. \nProxy Nomination Forms can be submitted to the ACRA Secretariat at admin@acra.net.au up until 3:00pm (AEST) 22nd September 2020. \nPlease let us know if you have any questions or you would like to be recorded as an apology for the meeting. \n  \nYou are invited to a Zoom meeting. \nWhen: Sep 23\, 2020 17:00 Canberra\, Melbourne\, Sydney \nPlease ensure you register in advance for this meeting by following this link. \n  \nAfter registering\, you will receive a confirmation email containing information about joining the meeting. \nThe meeting will be followed by a Webinar on Emotional well-being: Everyone benefits when we take a compassionate approach to our work\, to each other\, and to ourselves. This session we will explore the importance of language in compassionate care\, discuss the difference between compassion and empathy\, and reflect on the concept of self care – ‘fitting your own oxygen mask first’. \n\nHosted by Helen Mclean and Jessica Sharp\, Development Facilitators\, Training Centre in Subacute Care (TRACS WA).
URL:https://www.acra.net.au/event/acra-annual-general-meeting/
END:VEVENT
END:VCALENDAR