BEGIN:VCALENDAR
VERSION:2.0
PRODID:-//ACRA - ECPv6.0.9//NONSGML v1.0//EN
CALSCALE:GREGORIAN
METHOD:PUBLISH
X-WR-CALNAME:ACRA
X-ORIGINAL-URL:https://www.acra.net.au
X-WR-CALDESC:Events for ACRA
REFRESH-INTERVAL;VALUE=DURATION:PT1H
X-Robots-Tag:noindex
X-PUBLISHED-TTL:PT1H
BEGIN:VTIMEZONE
TZID:UTC
BEGIN:STANDARD
TZOFFSETFROM:+0000
TZOFFSETTO:+0000
TZNAME:UTC
DTSTART:20200101T000000
END:STANDARD
END:VTIMEZONE
BEGIN:VEVENT
DTSTART;TZID=UTC:20200605T143000
DTEND;TZID=UTC:20200605T153000
DTSTAMP:20260424T220259
CREATED:20200516T011901Z
LAST-MODIFIED:20200516T011901Z
UID:563013-1591367400-1591371000@www.acra.net.au
SUMMARY:Save the Date: Launching the National Cardiac Rehabilitation Quality Indicators to Monitor and Improve Your Service
DESCRIPTION:Robyn Gallagher USYD ICCPR\nRobert Zecchin WSLHD ACRA NSW ACT\nEmma Thomas UQ\nCate Ferry ACRA Heart Foundation
URL:https://www.acra.net.au/event/save-the-date-launching-the-national-cardiac-rehabilitation-quality-indicators-to-monitor-and-improve-your-service/
LOCATION:Zoom Videoconference\, Australia
END:VEVENT
END:VCALENDAR