BEGIN:VCALENDAR
VERSION:2.0
PRODID:-//ACRA - ECPv6.0.9//NONSGML v1.0//EN
CALSCALE:GREGORIAN
METHOD:PUBLISH
X-ORIGINAL-URL:https://www.acra.net.au
X-WR-CALDESC:Events for ACRA
REFRESH-INTERVAL;VALUE=DURATION:PT1H
X-Robots-Tag:noindex
X-PUBLISHED-TTL:PT1H
BEGIN:VTIMEZONE
TZID:UTC
BEGIN:STANDARD
TZOFFSETFROM:+0000
TZOFFSETTO:+0000
TZNAME:UTC
DTSTART:20200101T000000
END:STANDARD
TZID:Australia/Melbourne
BEGIN:STANDARD
TZOFFSETFROM:+1100
TZOFFSETTO:+1000
TZNAME:AEST
DTSTART:20200404T160000
END:STANDARD
BEGIN:DAYLIGHT
TZOFFSETFROM:+1000
TZOFFSETTO:+1100
TZNAME:AEDT
DTSTART:20201003T160000
END:DAYLIGHT
END:VTIMEZONE
BEGIN:VEVENT
DTSTART;VALUE=DATE:20200306
DTEND;VALUE=DATE:20200307
DTSTAMP:20260425T022809
CREATED:20191212T150816Z
LAST-MODIFIED:20200202T133802Z
UID:508595-1583452800-1583539199@www.acra.net.au
SUMMARY:ACRA-Victoria Clinical Practice Day: Cardiac Recovery - more than just exercise
DESCRIPTION:ACRA-Victoria Clinical Practice Day: Cardiac Recovery – more than just exercise\nACRA Vic will be holding their next Clinical Practice Day on March 6th 2020 – ACRA members and the wider cardiac community are welcome to attend in person or via video conferencing (using the Zoom platform). \nThe day is titled “Cardiac recovery – more than just exercise” which will discuss special cardiac populations\, goal setting and will be complemented by an interactive afternoon using goal setting techniques from the morning session and working through exercise assessment and prescription in challenging cardiac populations. It’s set to be a great day\, and the Victorian committee look forward to welcoming you either in person or online. \nWe are pleased to announce these renowned speakers (with more to come):\nA/Prof Gautam Vaddadi\nA/Prof Lisa Kuhn – Women’s Heart Disease\nDr Rosemary Higgins – Goal Setting \nProvision Program: \n \nACRA members:  – $85 / Non-members – $155 >> Book Here: https://www.trybooking.com/BHUBH \nVideo-conference* – $50 >> Book Here: https://www.trybooking.com/BHUFX \n*Purchasing a videoconference ticket enables you to watch the day live via Zoom.  \nYou will also receive access to the recording once it is available – usually within a week of the event. \n 
URL:https://www.acra.net.au/event/acra-qld-annual-symposium-beyond-the-everyday-2-3/
LOCATION:William Angliss Conference Centre\, 555 La Trobe St\, Melbourne\, VIC\, 3000\, Australia
CATEGORIES:State events
ORGANIZER;CN="ACRA%20Victoria":MAILTO:acravictoriacommittee@gmail.com
END:VEVENT
BEGIN:VEVENT
DTSTART;TZID=Australia/Melbourne:20200310T190000
DTEND;TZID=Australia/Melbourne:20200310T200000
DTSTAMP:20260425T022809
CREATED:20200202T025143Z
LAST-MODIFIED:20200202T025330Z
UID:526605-1583866800-1583870400@www.acra.net.au
SUMMARY:Unpacking the "A Pathway to Cardiac Recovery: Standardised Program content for Phase II Cardiac Rehabilitation" (Free Event)
DESCRIPTION:The Pathway to Phase II Cardiac Recovery is a National Heart Foundation and Deakin University Institute for Physical Activity and Nutrition (IPAN) collaboration\, with funding from Safer Care Victoria’s Cardiac Clinical Network. \nThis webinar will explore the issues with variation in delivery of cardiac rehabilitation and introduce the ‘standardised program content for Phase II Cardiac Rehabilitation’ resource. \nThe webinar will be of great benefit to health care staff working in cardiac secondary prevention programs\, particularly those who design and deliver cardiac rehabilitation services to those recovering from a coronary heart disease event or surgery. \nYour Hosts: Susie Cartledge\, Nicholas Cox\, Kim Gray and Eugene Lugg \nPlease register at: https://login.redbackconferencing.com.au/landers/page/559867 \n 
URL:https://www.acra.net.au/event/unpacking-the-a-pathway-to-cardiac-recovery-standardised-program-content-for-phase-ii-cardiac-rehabilitation/
LOCATION:Webinar
END:VEVENT
END:VCALENDAR