BEGIN:VCALENDAR
VERSION:2.0
PRODID:-//ACRA - ECPv6.0.9//NONSGML v1.0//EN
CALSCALE:GREGORIAN
METHOD:PUBLISH
X-ORIGINAL-URL:https://www.acra.net.au
X-WR-CALDESC:Events for ACRA
REFRESH-INTERVAL;VALUE=DURATION:PT1H
X-Robots-Tag:noindex
X-PUBLISHED-TTL:PT1H
BEGIN:VTIMEZONE
TZID:Australia/Sydney
BEGIN:STANDARD
TZOFFSETFROM:+1100
TZOFFSETTO:+1000
TZNAME:AEST
DTSTART:20200404T160000
END:STANDARD
BEGIN:DAYLIGHT
TZOFFSETFROM:+1000
TZOFFSETTO:+1100
TZNAME:AEDT
DTSTART:20201003T160000
END:DAYLIGHT
TZID:UTC
BEGIN:STANDARD
TZOFFSETFROM:+0000
TZOFFSETTO:+0000
TZNAME:UTC
DTSTART:20200101T000000
END:STANDARD
END:VTIMEZONE
BEGIN:VEVENT
DTSTART;TZID=Australia/Sydney:20200206T130000
DTEND;TZID=Australia/Sydney:20200206T133000
DTSTAMP:20260425T034221
CREATED:20200113T165408Z
LAST-MODIFIED:20200202T025416Z
UID:519725-1580994000-1580995800@www.acra.net.au
SUMMARY:Abstract preparation for ACRA ASM (Free Event brought to you by the Research & Education Committee)
DESCRIPTION:Webinar 1 – Thursday February 6th\, 1pm AEDST \nTopic: Abstract preparation for ACRA ASM \nPresenter: Dr Carolyn Astley \nThinking about preparing an abstract for the ACRA ASM or other conferences but don’t know where to start? Carolyn will take us through how to write and abstract and what makes a good conference abstract. There will be a focus on the abstract categories offered at the ACRA ASM so if you are planning on submitting some work\, this webinar is for you! \n* A live question and answer session will be available for both webinars\, in addition to webinars being recorded and available for viewing at a later date. \nBrought to you by the ACRA Research & Education Committee \nPlease click the link below to join the webinar at the designated time (Vic\, Tas\, NSW\, ACT @ 1pm; Qld @ 12pm\, SA @ 12:30pm\, WA @ 10am) \nJOIN HERE: https://zoom.us/j/432327847 \nOr iPhone one-tap :\nUS: +19292056099\,\,432327847# or +16699006833\,\,432327847#\nOr Telephone:\nDial(for higher quality\, dial a number based on your current location):\nUS: +1 929 205 6099 or +1 669 900 6833\nWebinar ID: 432 327 847\nInternational numbers available: https://zoom.us/u/aoyEICOZN
URL:https://www.acra.net.au/event/abstract-preparation-for-acra-asm-brought-to-you-by-the-research-education-committee/
LOCATION:Zoom Videoconference\, Australia
END:VEVENT
BEGIN:VEVENT
DTSTART;TZID=UTC:20200207T090000
DTEND;TZID=UTC:20200208T170000
DTSTAMP:20260425T034221
CREATED:20191023T140259Z
LAST-MODIFIED:20191023T155808Z
UID:491175-1581066000-1581181200@www.acra.net.au
SUMMARY:5th International 4 Corners of Cardiology Meeting
DESCRIPTION:  \n \nThe 5th International 4 Corners of Cardiology Meeting will be held in Melbourne\, Australia from 7th – 8th February 2020.\nThe Meeting will focus on high-level updates\, debates\, hot topics and future research directions in the 4 keys areas of Cardiovascular medicine:\n– Risk factors and prevention\n– Acute Coronary Syndrome (ACS)\n– Arrhythmias\n– Heart failure\nMark this date in your calendar\, check the website for updates and join us in Melbourne for what promises to be another exciting\, cutting edge exploration of the latest advances in cardiovascular medicine.\nView the program online today www.4ccardiology.com/program
URL:https://www.acra.net.au/event/4th-international-4-corners-of-cardiology-meeting-2/
LOCATION:Melbourne\, The Langham\, Melbourne\, VIC\, Australia
END:VEVENT
BEGIN:VEVENT
DTSTART;TZID=Australia/Sydney:20200220T130000
DTEND;TZID=Australia/Sydney:20200220T133000
DTSTAMP:20260425T034221
CREATED:20200113T165732Z
LAST-MODIFIED:20200202T025401Z
UID:519731-1582203600-1582205400@www.acra.net.au
SUMMARY:Poster preparation for ACRA ASM (Free Event brought to you by the Research & Education Committee)
DESCRIPTION:Webinar 2 – Thursday 20th February\, 1pm AEDST \nTopic: Poster preparation for ACRA ASM \nPresenter: Dr Susie Cartledge \nUnsure what makes a good poster? Want to be able to jazz up your poster presentations to make them more appealing and easier for people to read and understand? Susie will take you through some strategies and tips for preparing conference posters. \n* A live question and answer session will be available for both webinars\, in addition to webinars being recorded and available for viewing at a later date. \nBrought to you by the ACRA Research & Education Committee \nPlease click the link below to join the webinar at the designated time (Vic\, Tas\, NSW\, ACT @ 1pm; Qld @ 12pm\, SA @ 12:30pm\, WA @ 10am) \nJOIN HERE: https://zoom.us/j/883329953 \nOr iPhone one-tap :\nUS: +19292056099\,\,883329953# or +16699006833\,\,883329953#\nOr Telephone:\nDial(for higher quality\, dial a number based on your current location):\nUS: +1 929 205 6099 or +1 669 900 6833\nWebinar ID: 883 329 953\nInternational numbers available: https://zoom.us/u/aoyEICOZN
URL:https://www.acra.net.au/event/abstract-preparation-for-acra-asm-brought-to-you-by-the-research-education-committee-2/
LOCATION:Zoom Videoconference\, Australia
END:VEVENT
BEGIN:VEVENT
DTSTART;VALUE=DATE:20200228
DTEND;VALUE=DATE:20200229
DTSTAMP:20260425T034221
CREATED:20191212T150024Z
LAST-MODIFIED:20200113T171153Z
UID:508577-1582848000-1582934399@www.acra.net.au
SUMMARY:ACRA-Tasmania Education Day 2020: Save the date!
DESCRIPTION:ACRA-Tasmania Education Day 2020: Save the date!\nACRA-Tasmania will be holding their state educational day on the 28th Feb 2020 – ACRA members and the wider cardiac community are welcome to attend. \nMore details to follow soon. \n 
URL:https://www.acra.net.au/event/acra-qld-annual-symposium-beyond-the-everyday-2-2/
CATEGORIES:State events
END:VEVENT
END:VCALENDAR