BEGIN:VCALENDAR
VERSION:2.0
PRODID:-//ACRA - ECPv6.0.9//NONSGML v1.0//EN
CALSCALE:GREGORIAN
METHOD:PUBLISH
X-WR-CALNAME:ACRA
X-ORIGINAL-URL:https://www.acra.net.au
X-WR-CALDESC:Events for ACRA
REFRESH-INTERVAL;VALUE=DURATION:PT1H
X-Robots-Tag:noindex
X-PUBLISHED-TTL:PT1H
BEGIN:VTIMEZONE
TZID:UTC
BEGIN:STANDARD
TZOFFSETFROM:+0000
TZOFFSETTO:+0000
TZNAME:UTC
DTSTART:20180101T000000
END:STANDARD
END:VTIMEZONE
BEGIN:VEVENT
DTSTART;TZID=UTC:20180730T080000
DTEND;TZID=UTC:20180801T170000
DTSTAMP:20260426T035845
CREATED:20171113T132502Z
LAST-MODIFIED:20171113T132822Z
UID:241282-1532937600-1533142800@www.acra.net.au
SUMMARY:ACRA 2018 Annual Scientific Meeting
DESCRIPTION:As Australia’s peak body for providing support and advocacy for multidisciplinary health professionals delivering cardiovascular care\, the Australian Cardiovascular Health and Rehabilitation Association (ACRA) is proud to welcome you to the 28th Annual Scientific Meeting\, Monday 30th July – Wednesday 1st August 2018\, at the newly built Hotel Grand Chancellor\, Conference Centre\, Brisbane. \nThis unique event will provide: \n\nThe highest quality up-to-the-minute research in cardiovascular secondary prevention\nGreater chances than ever before to network with invited speakers and like-minded colleagues\nIncreased opportunities for professional growth and to” become better at what you do”.\n\nMark your diary now!
URL:https://www.acra.net.au/event/acra-2018-annual-scientific-meeting/
LOCATION:Hotel Grand Chancellor Brisbane\, 23 Leichhardt Street\, Brisbane City\, Queensland\, 4000\, Australia
ATTACH;FMTTYPE=image/jpeg:https://www.acra.net.au/wp-content/uploads/2017/09/ACRABanners2018-05-e1510615684548.jpg
ORGANIZER;CN="ACRA%20Conference%20Secretariat":MAILTO:acra@theassociationspecialists.com.au
END:VEVENT
END:VCALENDAR