BEGIN:VCALENDAR
VERSION:2.0
PRODID:-//ACRA - ECPv6.0.9//NONSGML v1.0//EN
CALSCALE:GREGORIAN
METHOD:PUBLISH
X-WR-CALNAME:ACRA
X-ORIGINAL-URL:https://www.acra.net.au
X-WR-CALDESC:Events for ACRA
REFRESH-INTERVAL;VALUE=DURATION:PT1H
X-Robots-Tag:noindex
X-PUBLISHED-TTL:PT1H
BEGIN:VTIMEZONE
TZID:Australia/Melbourne
BEGIN:STANDARD
TZOFFSETFROM:+1100
TZOFFSETTO:+1000
TZNAME:AEST
DTSTART:20240406T160000
END:STANDARD
BEGIN:DAYLIGHT
TZOFFSETFROM:+1000
TZOFFSETTO:+1100
TZNAME:AEDT
DTSTART:20241005T160000
END:DAYLIGHT
BEGIN:STANDARD
TZOFFSETFROM:+1100
TZOFFSETTO:+1000
TZNAME:AEST
DTSTART:20250405T160000
END:STANDARD
BEGIN:DAYLIGHT
TZOFFSETFROM:+1000
TZOFFSETTO:+1100
TZNAME:AEDT
DTSTART:20251004T160000
END:DAYLIGHT
TZID:UTC
BEGIN:STANDARD
TZOFFSETFROM:+0000
TZOFFSETTO:+0000
TZNAME:UTC
DTSTART:20250101T000000
END:STANDARD
TZID:Australia/Sydney
BEGIN:STANDARD
TZOFFSETFROM:+1100
TZOFFSETTO:+1000
TZNAME:AEST
DTSTART:20250405T160000
END:STANDARD
BEGIN:DAYLIGHT
TZOFFSETFROM:+1000
TZOFFSETTO:+1100
TZNAME:AEDT
DTSTART:20251004T160000
END:DAYLIGHT
TZID:Australia/Adelaide
BEGIN:STANDARD
TZOFFSETFROM:+1030
TZOFFSETTO:+0930
TZNAME:ACST
DTSTART:20250405T163000
END:STANDARD
BEGIN:DAYLIGHT
TZOFFSETFROM:+0930
TZOFFSETTO:+1030
TZNAME:ACDT
DTSTART:20251004T163000
END:DAYLIGHT
TZID:Australia/Perth
BEGIN:STANDARD
TZOFFSETFROM:+0800
TZOFFSETTO:+0800
TZNAME:AWST
DTSTART:20250101T000000
END:STANDARD
END:VTIMEZONE
BEGIN:VEVENT
DTSTART;TZID=Australia/Melbourne:20240524T090000
DTEND;TZID=Australia/Melbourne:20240524T140000
DTSTAMP:20260423T084507
CREATED:20240420T154004Z
LAST-MODIFIED:20240513T012220Z
UID:648748-1716541200-1716559200@www.acra.net.au
SUMMARY:ACRA-Qld Workshop: Research and Clinical Collaboration "Navigating the secondary prevention space"
DESCRIPTION:2024 ACRA-QLD Workshop – Free for members!\nAre you a clinician interested in research or quality improvement but don’t know where to start? Do you have lots of data or ideas but need help turning them into something meaningful? Are you an academic looking to make clinical collaborations for research projects? \nThen\, come join the Australian Cardiovascular Health and Rehabilitation Association—Queensland (ACRA-Qld) as we host an upcoming collaborative seminar and workshop at Griffith University Logan on Friday 24th May 2024. We’ll work together in small groups to help you understand your clinical data\, come up with a research problem or idea\, plan quality improvement projects and work up an elevator pitch! Hear tips on conducting research\, mentorship\, and funding schemes\, and take part in facilitated networking between clinicians and academics. \nMorning tea and lunch are included for all attendees. \nRegistration is free for ACRA members. Not a member? Special Offer: Join ACRA as part of registering for this event and get the regular $40 joining fee waived. \nGroups of participants who workshop an idea from the day and submit it to ACRA-Qld via the approved project plan have the opportunity to be awarded up to $1000 of research support funding (conditions apply).
URL:https://www.acra.net.au/event/acra-qld-workshop-research-and-clinical-collaboration-pitch-perfect/
LOCATION:68 University Dr\, Meadowbrook QLD 413
ORGANIZER;CN="ACRA-Qld":MAILTO:qcra@acra.net.au
END:VEVENT
BEGIN:VEVENT
DTSTART;TZID=Australia/Melbourne:20240627T173000
DTEND;TZID=Australia/Melbourne:20240627T203000
DTSTAMP:20260423T084507
CREATED:20240522T060744Z
LAST-MODIFIED:20240522T061244Z
UID:648771-1719509400-1719520200@www.acra.net.au
SUMMARY:Australian Cardiovascular Health & Rehabilitation Association SA/NT 2024 AGM and dinner
DESCRIPTION:Australian Cardiovascular Health & Rehabilitation Association SA/NT 2024 AGM and dinner. \nThursday 27th June 2024. \nCurrent Heart Failure Management Update. \nDr Julie Bradley\, Consultant Cardiologist\, and Ms Lyn Chan\, Heart Failure Nurse Practitioner\, Central Adelaide Local Health. \nNetwork \nThe AGM will commence at 5:30pm with dinner and presentations to follow commencing at 6:45pm ACST. Please note the AGM and dinner are open to members only. Non-members are welcome to join the presentation by virtual attendance only. \nVenue: Seafire on the Marina\, Holdfast Shores Marina Pier and online via Zoom. \nFree for ACRA members and $30 for non-members to join virtually.\n \nBook now: https://events.humanitix.com/acra-sa-nt-agm-and-dinner \nThis event is kindly sponsored by Novartis.
URL:https://www.acra.net.au/event/australian-cardiovascular-health-rehabilitation-association-sa-nt-2024-agm-and-dinner/
LOCATION:Seafire on the Marina\, Shop 2\, Holdfast Shores Marina Pier\, Gleng\, South Australia\, 5045\, Australia
ORGANIZER;CN="ACRA%20SA%2FNT":MAILTO:acrasant.secretary@gmail.com
END:VEVENT
BEGIN:VEVENT
DTSTART;TZID=Australia/Melbourne:20240814T160000
DTEND;TZID=Australia/Melbourne:20240814T170000
DTSTAMP:20260423T084507
CREATED:20240730T033325Z
LAST-MODIFIED:20240730T033554Z
UID:648835-1723651200-1723654800@www.acra.net.au
SUMMARY:National Webinar: Launch of National cardiac rehabilitation provider certification
DESCRIPTION:Hear about our national vision and plan towards national unity for cardiac rehabilitation in Australia. The first step towards this is clinician certification. This webinar will unpack the plan for certification with national experts and those who have already undertaken certification. An important webinar not to be missed (and will also be recorded).
URL:https://www.acra.net.au/event/national-webinar-launch-of-national-cardiac-rehabilitation-provider-certification/
LOCATION:Online
END:VEVENT
BEGIN:VEVENT
DTSTART;TZID=Australia/Melbourne:20240917T160000
DTEND;TZID=Australia/Melbourne:20240917T170000
DTSTAMP:20260423T084507
CREATED:20240822T221345Z
LAST-MODIFIED:20240822T221345Z
UID:648973-1726588800-1726592400@www.acra.net.au
SUMMARY:Highlights of the ACRA Annual Scientific Meeting 2024
DESCRIPTION:Hear from some of ACRA’s rising stars as they give you a taste of presentations that were given at this years ACRA Annual Scientific Meeting. \nConfirmed speakers: Dr Emily Gray\, Vanessa Poulsen\, Lucy Walton and more!
URL:https://www.acra.net.au/event/highlights-of-the-acra-annual-scientific-meeting-2024/
LOCATION:Online
END:VEVENT
BEGIN:VEVENT
DTSTART;TZID=Australia/Melbourne:20241101T090000
DTEND;TZID=Australia/Melbourne:20241101T150000
DTSTAMP:20260423T084507
CREATED:20240816T011354Z
LAST-MODIFIED:20241028T003924Z
UID:648971-1730451600-1730473200@www.acra.net.au
SUMMARY:ACRA-Qld 2024 State Event (NOW ONLINE ONLY): Collaborating to Bridge the Practice-Research Divide
DESCRIPTION:Register now for ACRA-Qld’s 2024 State Event\n \nAre you a clinician interested in research or quality improvement but don’t know where to start? Do you have lots of data or ideas but need help turning them into something meaningful? Are you an academic looking to make clinical collaborations for research projects? \nWe’ll learn how to understand clinical data\, come up with a research problem or idea\, plan quality improvement projects and work up an elevator pitch! Hear tips on conducting research\, mentorship\, and funding schemes\, and take part in facilitated networking between clinicians and academics. \nThis event is now ONLINE ONLY! To register visit: https://events.humanitix.com/acra-qld-workshop-research-and-clinical-collaborations
URL:https://www.acra.net.au/event/acra-qld-2024-state-event-collaborating-to-bridge-the-practice-research-divide/
LOCATION:Online
END:VEVENT
BEGIN:VEVENT
DTSTART;TZID=Australia/Melbourne:20241111T163000
DTEND;TZID=Australia/Melbourne:20241111T183000
DTSTAMP:20260423T084507
CREATED:20241021T011633Z
LAST-MODIFIED:20241021T011950Z
UID:649007-1731342600-1731349800@www.acra.net.au
SUMMARY:ACRA VIC/TAS Webinar & AGM
DESCRIPTION:Dear ACRA Vic/Tas Members\, \nPlease save the date for our next Annual General Meeting (AGM)\, preceded by a webinar including two talks from special guests. You should have (hopefully!) already received a calendar invite. \nWebinar and Annual General Meeting \nDate: Monday\, 11th November 2024\nTime: Webinar commences at 4:30pm\, AGM commences approximately 5:20pm\nLocation: via zoom \nPlease register for the event here: https://events.humanitix.com/acra-victoria-annual-general-meeting-with-speakers \n1. Webinar\, commencing at 4:30pm (open to all) \nWith Special Guests Murray Chenery and Abi Oliver. \nConsumer/Lived experience presentation   \nMurray is an expert by lived experience and peer support leader for Heart Support Australia. He will be sharing his story and learnings from his experience. \nKeynote presentation – “Getting to the heart of the matter – diabetes care in cardiac rehab” \nAbi trained in coronary care in the 1990’s and worked in cardiology and cardiac rehabilitation in various roles.  Whilst working in the cardiac\, pulmonary and bariatric rehabilitation programs at Epworth Camberwell and with so many of the participants having diabetes\, Abi was fortunate to have the opportunity to complete a diabetes education qualification at UTS.  There\, she was inspired by the teachings of Prof Elizabeth Denny-Wilson regarding the issue of inequitable access in health care.  Since obtaining credentialing as a diabetes educator\, Abi has worked in community health and health promotion charities in diabetes education and obesity. ‘ \n2. Followed by ACRA Vic/Tas AGM (open to financial members) \nAGM Agenda\nPlease find the agenda linked here. \nAppointing a Proxy\nIf you can’t make the meeting but wish to nominate a proxy\, please complete the Proxy Form and return it to us (via email to this address) by midday Friday\, 8th November. \nAttached Documentation\nPlease find attached the required documentation for this meeting: \n\n\n2023 AGM Agenda \n\n\n2022 AGM Minutes – for your review \n\n\nProxy Form – if you cannot make the meeting yourself (due by COB Friday\, 8th November) \n\n\nNomination Form – if you would like to join the committee (due by COB Friday\, 8th November) \n\n\nAGM Poster – the webinar is open to members and non-members \n\n\nNominating for the Committee\nWe would welcome new committee members to join our dynamic and fun team! We are especially in need of more clinicians on the committee.  \nIf you have any questions\, please don’t hesitate to reach out to a current committee member or drop us a line at this email. \nWe hope you can join us to review the year and celebrate our achievements over the last 12 months! \nWarm regards\, \nKatrien Janssen\nACRA Vic Tas President \nSarah Gauci\nACRA Vic Tas Secretary \non behalf of –\nACRA Vic/Tas Committee\nacravictoriacommittee@gmail.com
URL:https://www.acra.net.au/event/649007/
LOCATION:Zoom Videoconference\, Australia
ORGANIZER;CN="ACRA%20VIC%2FTAS":MAILTO:acravictoriacommittee@gmail.com
END:VEVENT
BEGIN:VEVENT
DTSTART;TZID=UTC:20250312T180000
DTEND;TZID=UTC:20250312T190000
DTSTAMP:20260423T084508
CREATED:20250205T071325Z
LAST-MODIFIED:20250205T071325Z
UID:649065-1741802400-1741806000@www.acra.net.au
SUMMARY:Australian Cardiovascular Health & Rehabilitation Association SA/NT 2025 Educational Webinar
DESCRIPTION:  \n  \n  \nAustralian Cardiovascular Health & Rehabilitation Association SA/NT 2025 Educational Webinar \n\nDate: Wednesday 12th March  \nTime: 6:00pm-7:00pm  \nOnline via Zoom  \nPlease note the Zoom link will be sent to all attendees one day prior to the seminar to the email you register with. \nFree for ACRA members and $30 for non-members \nBook here: https://events.humanitix.com/acra-sa-nt-webinar-12th-march-2025 \n\n\n\n\n6:00pm \nJourney to a cardiac nurse practitioner\nMs Michelle Iadanza\, Nurse Practitioner\, Cardiac Prevention and Rehabilitation Service\, Modbury Hospital\, South Australia\n\n\n6:30pm\nOutcomes and Future Directions of Web-Based Rehabilitation in South Australia: Insights from the Country Heart Attack Prevention Project\nDr Katie Nesbitt\, Research Associate\, College of Nursing and Health Science\, Flinders University\n\n\n\n  \nEnquiries: acrasant.secretary@gmail.com  \nBook here:
URL:https://www.acra.net.au/event/australian-cardiovascular-health-rehabilitation-association-sa-nt-2025-educational-webinar/
LOCATION:Webinar
ORGANIZER;CN="ACRA%20SA%2FNT":MAILTO:acrasant.secretary@gmail.com
END:VEVENT
BEGIN:VEVENT
DTSTART;TZID=Australia/Melbourne:20250324T131500
DTEND;TZID=Australia/Melbourne:20250324T210000
DTSTAMP:20260423T084508
CREATED:20250305T033455Z
LAST-MODIFIED:20250305T034220Z
UID:649096-1742822100-1742850000@www.acra.net.au
SUMMARY:Under the Weather: Exploring Environmental and Socioeconomic Impacts on Heart Health
DESCRIPTION:
URL:https://www.acra.net.au/event/under-the-weather-exploring-environmental-and-socioeconomic-impacts-on-heart-health/
END:VEVENT
BEGIN:VEVENT
DTSTART;TZID=Australia/Sydney:20250506T160000
DTEND;TZID=Australia/Sydney:20250506T170000
DTSTAMP:20260423T084508
CREATED:20250430T015822Z
LAST-MODIFIED:20250430T015918Z
UID:649121-1746547200-1746550800@www.acra.net.au
SUMMARY:Exploring the role of Advance Care Planning and its benefits for Cardiovascular Rehabilitation clients
DESCRIPTION:Exploring the role of Advance Care Planning and its benefits for Cardiovascular Rehabilitation clients\nDate: Tuesday 6th May 2025 \nTime: 4:00pm-5:00pm AEST \nOnline via Zoom  \nPlease note the Zoom link will be sent to all attendees one day prior to the seminar to the email you register with. \nFree for ACRA members and $30 for non-members  \nBook here: Exploring the role of Advance Care Planning and its benefits for Cardiovascular Rehabilitation clients \nEvent Description: \n\nJoin us to hear about Advance Care Planning (ACP) and its benefits for Cardiovascular Rehabilitation clients.  As cardiac health care professionals we have a unique opportunity to engage\, educate and advocate on Advance Care Planning processes and how it is a way for patients to take back control when thinking of their onward journey in their cardiac recovery. This will be a discussion about ACP nationally\, led by experts from Alfred Health. \nOur speakers include –  \nAnna Loughnan who is an experienced senior ACP clinician at Alfred Health\, who supports patients daily to complete ACP documents and is involved in educating on ACP to our many established partnership groups. Anna is also a lead clinician on current project with GP practices in increasing health professional knowledge to support their patients with ACP. \nTania Hobbs is the ACP Manager of the Alfred Health team\, an experienced clinical nurse leader who will be joining in for the Q & A component of the discussion.
URL:https://www.acra.net.au/event/exploring-the-role-of-advance-care-planning-and-its-benefits-for-cardiovascular-rehabilitation-clients/
LOCATION:Webinar
END:VEVENT
BEGIN:VEVENT
DTSTART;TZID=Australia/Sydney:20250619T160000
DTEND;TZID=Australia/Sydney:20250619T170000
DTSTAMP:20260423T084508
CREATED:20250611T041727Z
LAST-MODIFIED:20250611T041727Z
UID:649145-1750348800-1750352400@www.acra.net.au
SUMMARY:ACRA Webinar - Moving Hearts: Physical Activity and Social Connectedness Beyond Cardiac Rehab
DESCRIPTION:Join us in June to hear about an update on the Heart Foundation Walking Program: \n“Moving Hearts: Physical Activity and Social Connectedness: Beyond Cariac Rehab” \nDate: Thursday 19th June \nTime: 4 – 5pm (AEST) \nThe Heart Foundation remains committed to reducing heart disease and improving the heart health and quality of life of all Australians through our work in risk reduction\, support and care\, and research. We are committed to supporting Australians to be more active for positive heart health. Heart Foundation Walking is Australia’s largest free walking network with over 1\,300 walking groups. In 2021\, we launched our digital Personal Walking Plans in 2021 and have had over 160\,000 Australians sign up to date. \nOur speakers include – \nElizabeth Calleja \nSenior Advisor & Lead for Physical Activity at the National Heart Foundation of Australia \nElizabeth Calleja role functions as support & guidance across the organisation for operations that involve physical activity. This includes advocacy and clinical evidence for the Heart Foundation Walking program\, Jump Rope for Heart\, MyMarathon and the new partnership with Coastrek as well as our work in Primary and Secondary Care. \nAbhai Dhillon\nSenior Health Professional Engagement Officer – National Heart Foundation of Australia \nAbhai Dhillon leads Health Professional Engagement for the Heart Foundation Walking Program. With over a decade of experience across government\, NGOs\, and the primary care sector\, Abhai works at the intersection of policy\, service design\, and digital health. He currently focuses on integrating walking into preventive care pathways in collaboration with PHNs\, GPs\, Nurses\, and allied health professionals across Australia. \n  \nREGISTER FOR WEBINAR
URL:https://www.acra.net.au/event/acra-webinar-moving-hearts-physical-activity-and-social-connectedness-beyond-cardiac-rehab/
LOCATION:Zoom Videoconference\, Australia
END:VEVENT
BEGIN:VEVENT
DTSTART;TZID=Australia/Adelaide:20250626T180000
DTEND;TZID=Australia/Adelaide:20250626T200000
DTSTAMP:20260423T084508
CREATED:20250519T053244Z
LAST-MODIFIED:20250519T053634Z
UID:649132-1750960800-1750968000@www.acra.net.au
SUMMARY:ACRA SA/NT 2025 AGM and Dinner
DESCRIPTION:Australian Cardiovascular Health & Rehabilitation Association SA/NT 2025 AGM and Dinner \nDate: Thursday 26th June 2025 \nTime: 6:00pm-8:00pm ACST \nVenue: Lenzerheide Restaurant and online via Zoom \nUpdates on Spontaneous Coronary Artery Dissection (SCAD)\nProfessor Peter Psaltis\, Director – Heart and Vascular Health at\nSAHMRI\, Interventional cardiologist Central Adelaide Local\nHealth Network \nThe AGM will commence at 6:00pm with dinner and presentation to follow\ncommencing at 7:00pm ACST. Please note the AGM and dinner are open to\nmembers only. Non-members are welcome to join the presentation by virtual\nattendance only (commencing at 7:15pm ACST). \nFree for ACRA members and $30 for non-members to join\nvirtually \nBook now: https://events.humanitix.com/2025-acra-sa-nt-agm-and-dinner \nEnquiries: acrasant.secretary@gmail.com\n \nEvent kindly sponsored by Novartis
URL:https://www.acra.net.au/event/acra-sa-nt-2025-agm-and-dinner/
LOCATION:Lenzerheide Restaurant or online via Zoom\, 146 Belair Rd\, Hawthorn\, South Australia\, 5062\, Australia
ORGANIZER;CN="ACRA%20SA%2FNT":MAILTO:acrasant.secretary@gmail.com
END:VEVENT
BEGIN:VEVENT
DTSTART;TZID=Australia/Sydney:20250728T140000
DTEND;TZID=Australia/Sydney:20250728T160000
DTSTAMP:20260423T084508
CREATED:20250611T041946Z
LAST-MODIFIED:20250611T041946Z
UID:649149-1753711200-1753718400@www.acra.net.au
SUMMARY:ACRA Webinar - Women are not small men!
DESCRIPTION:Join us in July to hear from esteemed cardiologist\, A/Prof Monique Watts on women’s heart health: \n“Women are not small men!” \nDate: Monday 28th July \nTime: 2 – 3pm (AEST) \nOur speaker is – \nAssociate Professor Monique Watts\, a Cardiologist and Heart Failure Specialist at Epworth Freemasons and the Alfred Hospital in Victoria. \nAfter graduating from the University of Melbourne\, A/Prof Watts trained at the Royal Melbourne Hospital. She completed Advanced Training in Cardiology with a Fellowship in Heart Failure at the Alfred Hospital\, Victoria’s only combined heart failure and cardiac transplantation service. \nMonique holds a special interest in women’s heart disease and leads the Women’s Heart Clinic at the Alfred Hospital. \nShe is actively involved in research and teaching and also has a regional clinic in the Central Victorian town of Charlton. \n  \nREGISTER FOR WEBINAR
URL:https://www.acra.net.au/event/acra-webinar-women-are-not-small-men/
LOCATION:Zoom Videoconference\, Australia
END:VEVENT
BEGIN:VEVENT
DTSTART;TZID=Australia/Perth:20250820T123000
DTEND;TZID=Australia/Perth:20250820T133000
DTSTAMP:20260423T084508
CREATED:20250613T043513Z
LAST-MODIFIED:20250613T043629Z
UID:649151-1755693000-1755696600@www.acra.net.au
SUMMARY:Ischaemic heart disease (IHD) in Indian Migrants living in Australia: A mixed methods study
DESCRIPTION:Ischaemic heart disease (IHD) in Indian Migrants living in Australia: A mixed methods study \n\nWe invite you to register for the upcoming webinar “Ischaemic heart disease (IHD) in Indian Migrants living in Australia: A mixed methods study“. \nDate: Wednesday 20 August 2025\nTime: 12:30pm – 1:30pm (AWST) \nWebinar Details \nRural Health West in conjunction with Heart Foundation\, WA Rheumatic Heart Disease Register and the Australian Cardiovascular Health and Rehabilitation Association invite you to this interactive webinar to assist health professionals working in rural areas. \nHosted by: \n·         Helen McLean – Heart Support Australia\, National Program Coordinator and ACRA Education & Training sub-committee \nPresented by: \n·         Kunwar Kaur  – PhD candidate at Edith Cowan University \nContent: \n·         Background of IHD in Indian migrants \n·         Study methodology \n·         Perceptions about personal risk of IHD \n·         Barriers and enablers for behaviour change \nRegistration Details \nTo submit your registration\, please click the button below and submit the registration form. \n  \nREGISTER NOW \n  \n– Rural Health West CPD Team
URL:https://www.acra.net.au/event/ischaemic-heart-disease-ihd-in-indian-migrants-living-in-australia-a-mixed-methods-study/
LOCATION:Microsoft Teams
END:VEVENT
BEGIN:VEVENT
DTSTART;TZID=Australia/Sydney:20251021T160000
DTEND;TZID=Australia/Sydney:20251021T170000
DTSTAMP:20260423T084508
CREATED:20250917T024917Z
LAST-MODIFIED:20250917T024917Z
UID:649257-1761062400-1761066000@www.acra.net.au
SUMMARY:Measurement that moves you: Insights from the ‘Measure It!’ trial
DESCRIPTION:Event description\n\nLarge-scale problems\, such as physical inactivity\, require scalable solutions. The MRFF funded Measure It! multicentre randomised trial examined whether frequency of physical activity measurement (self-report and step-tracker daily steps)\, with very brief advice from cardiac rehabilitation clinicians (Measure It!; <5min)\, influenced physical activity in 190 physically inactive cardiac rehabilitation attendees over 6-months. Here we will share our implementation and effectiveness results\, recommending ways that this simple and innovative approach to physical activity promotion within cardiac rehabilitation may be incorporated into your program. \nOur speakers: \nProfessor Nicole Freene \nNicole is a Professor at the University of Canberra. She has been practicing as a physiotherapist for more than 25 years and her research focuses on increasing physical activity levels and decreasing sedentary behaviour in adults\, both in healthy and cardiac populations\, and physical activity promotion by health professionals. \n \n  \nJess Seymour \nJess is a Clinical Exercise Physiologist and PhD Candidate at the University of Canberra. Working across the public and community healthcare sectors\, she has developed a passion for supporting people with chronic conditions to live active and healthy lives through quality\, evidence-based interventions. \n \n\n  \nThe event flyer can be found here.
URL:https://www.acra.net.au/event/measurement-that-moves-you-insights-from-the-measure-it-trial/
LOCATION:Online
END:VEVENT
BEGIN:VEVENT
DTSTART;TZID=Australia/Melbourne:20251022T164500
DTEND;TZID=Australia/Melbourne:20251022T164500
DTSTAMP:20260423T084508
CREATED:20251015T034337Z
LAST-MODIFIED:20251015T231022Z
UID:649265-1761151500-1761151500@www.acra.net.au
SUMMARY:ACRA VIC/TAS AGM 2025
DESCRIPTION:Australian Cardiovascular Health & Rehabilitation Association VIC/TAS 2025 AGM \nDate: Wednesday 22nd October 2025 \nTime: 4:45pm AEDT \nVenue: Online via Zoom \nThe AGM will commence at 4.45pm\, after presentations by 2 guest speakers commencing 4pm. \nPlease note that the AGM is open to\nfinancial ACRA VIC/TAS members only. Non-members are welcome to the presentations prior to the AGM. \nThe meeting papers for the AGM can be found below:  \n\nNotice of Meeting and Agenda\nACRA VIC/TAS AGM 2024 Minutes\nProxy Form 2025\nNomination Form 2025\n\nPlease find the Zoom link and details below: \nhttps://us02web.zoom.us/j/81636276751?pwd=knaVf2Umbb3cMSMtuPCJXRtqI2VYLB.1\nMeeting ID: 816 3627 6751\nPasscode: 366090 \n 
URL:https://www.acra.net.au/event/acra-vic-tas-agm-2025/
LOCATION:Zoom Videoconference\, Australia
ORGANIZER;CN="ACRA%20VIC%2FTAS":MAILTO:acravictoriacommittee@gmail.com
END:VEVENT
END:VCALENDAR