BEGIN:VCALENDAR
VERSION:2.0
PRODID:-//ACRA - ECPv6.0.9//NONSGML v1.0//EN
CALSCALE:GREGORIAN
METHOD:PUBLISH
X-WR-CALNAME:ACRA
X-ORIGINAL-URL:https://www.acra.net.au
X-WR-CALDESC:Events for ACRA
REFRESH-INTERVAL;VALUE=DURATION:PT1H
X-Robots-Tag:noindex
X-PUBLISHED-TTL:PT1H
BEGIN:VTIMEZONE
TZID:UTC
BEGIN:STANDARD
TZOFFSETFROM:+0000
TZOFFSETTO:+0000
TZNAME:UTC
DTSTART:20150101T000000
END:STANDARD
END:VTIMEZONE
BEGIN:VEVENT
DTSTART;TZID=UTC:20150729T160000
DTEND;TZID=UTC:20150729T190000
DTSTAMP:20260422T112844
CREATED:20160602T180747Z
LAST-MODIFIED:20160602T180747Z
UID:80399-1438185600-1438196400@www.acra.net.au
SUMMARY:WACRA: RESEARCH SYMPOSIUM
DESCRIPTION:Western Australian Cardiovascular Health and Rehabilitation Association  \nRESEARCH SYMPOSIUM \nWednesday 29th July \nVenue: Grace Vaughan House \nStubbs Terrace\, Shenton Park \n  \n\nCurrent trials being conducted by the Heart Research Institute of WA. Louise Ferguson\, Cardiovascular Clinical Research Coordinator\, Sir Charles Gairdner Hospital.\n\n  \n\nDecision Making and Reasons for medical seeking assistance for patients with Myocardial infarction: a Qualitative Analysis. Welma Van Schalkwyk\, Registered Nurse\, Sir Charles Gairdner Hospital.\n\n  \n\nImproved efficiencies in cardiac rehabilitation through service redesign. Andrew Maiorana\, exercise physiologist\, Fiona Stanley Hospital. School of Physiotherapy and Exercise Science\, Curtin University.\n\n  \n\nGaps between diabetic and non-diabetic patients which could guide intervention. Lee Nedkoff\, PhD Candidate and Research Associate\, University of Western Australia\n\n  \n\nPromoting cardiovascular rehabilitation and secondary prevention as usual care: toolkit development. Craig Cheetham\, Cardiovascular Health Networks\n\n  \n  \nCost: WACRA members free – $25.00 to non-members \nRegistration from 4.30pm \nPresentations from 5.00pm – 7.00pm \nRefreshments provided \nRSVP: Monday 27th July \nEmail: Julie.prout@health.wa.gov.au Ph:9346 4302
URL:https://www.acra.net.au/event/wacra-research-symposium/
LOCATION:Victoria
ATTACH;FMTTYPE=image/jpeg:https://www.acra.net.au/wp-content/uploads/2016/03/WACRA-logo.jpg
END:VEVENT
END:VCALENDAR