BEGIN:VCALENDAR
VERSION:2.0
PRODID:-//ACRA - ECPv6.0.9//NONSGML v1.0//EN
CALSCALE:GREGORIAN
METHOD:PUBLISH
X-ORIGINAL-URL:https://www.acra.net.au
X-WR-CALDESC:Events for ACRA
REFRESH-INTERVAL;VALUE=DURATION:PT1H
X-Robots-Tag:noindex
X-PUBLISHED-TTL:PT1H
BEGIN:VTIMEZONE
TZID:UTC
BEGIN:STANDARD
TZOFFSETFROM:+0000
TZOFFSETTO:+0000
TZNAME:UTC
DTSTART:20250101T000000
END:STANDARD
END:VTIMEZONE
BEGIN:VEVENT
DTSTART;TZID=UTC:20250312T180000
DTEND;TZID=UTC:20250312T190000
DTSTAMP:20260421T130141
CREATED:20250205T071325Z
LAST-MODIFIED:20250205T071325Z
UID:649065-1741802400-1741806000@www.acra.net.au
SUMMARY:Australian Cardiovascular Health & Rehabilitation Association SA/NT 2025 Educational Webinar
DESCRIPTION:  \n  \n  \nAustralian Cardiovascular Health & Rehabilitation Association SA/NT 2025 Educational Webinar \n\nDate: Wednesday 12th March  \nTime: 6:00pm-7:00pm  \nOnline via Zoom  \nPlease note the Zoom link will be sent to all attendees one day prior to the seminar to the email you register with. \nFree for ACRA members and $30 for non-members \nBook here: https://events.humanitix.com/acra-sa-nt-webinar-12th-march-2025 \n\n\n\n\n6:00pm \nJourney to a cardiac nurse practitioner\nMs Michelle Iadanza\, Nurse Practitioner\, Cardiac Prevention and Rehabilitation Service\, Modbury Hospital\, South Australia\n\n\n6:30pm\nOutcomes and Future Directions of Web-Based Rehabilitation in South Australia: Insights from the Country Heart Attack Prevention Project\nDr Katie Nesbitt\, Research Associate\, College of Nursing and Health Science\, Flinders University\n\n\n\n  \nEnquiries: acrasant.secretary@gmail.com  \nBook here:
URL:https://www.acra.net.au/event/australian-cardiovascular-health-rehabilitation-association-sa-nt-2025-educational-webinar/
LOCATION:Webinar
ORGANIZER;CN="ACRA%20SA%2FNT":MAILTO:acrasant.secretary@gmail.com
END:VEVENT
END:VCALENDAR