BEGIN:VCALENDAR
VERSION:2.0
PRODID:-//ACRA - ECPv6.0.9//NONSGML v1.0//EN
CALSCALE:GREGORIAN
METHOD:PUBLISH
X-WR-CALNAME:ACRA
X-ORIGINAL-URL:https://www.acra.net.au
X-WR-CALDESC:Events for ACRA
REFRESH-INTERVAL;VALUE=DURATION:PT1H
X-Robots-Tag:noindex
X-PUBLISHED-TTL:PT1H
BEGIN:VTIMEZONE
TZID:Australia/Melbourne
BEGIN:STANDARD
TZOFFSETFROM:+1100
TZOFFSETTO:+1000
TZNAME:AEST
DTSTART:20240406T160000
END:STANDARD
BEGIN:DAYLIGHT
TZOFFSETFROM:+1000
TZOFFSETTO:+1100
TZNAME:AEDT
DTSTART:20241005T160000
END:DAYLIGHT
END:VTIMEZONE
BEGIN:VEVENT
DTSTART;TZID=Australia/Melbourne:20240516T160000
DTEND;TZID=Australia/Melbourne:20240516T170000
DTSTAMP:20260422T064000
CREATED:20240502T040840Z
LAST-MODIFIED:20240502T040840Z
UID:648762-1715875200-1715878800@www.acra.net.au
SUMMARY:Vaping! What is it good for? Absolutely nothing
DESCRIPTION:Please join us for an informative webinar on the health effects of Vaping with guest speakers from the South East Public Health Unit in Melbourne\, Victoria. \nSpeakers include: \nAlyce Jenkins – Alyce is the Vaping Prevention Partnerships Lead at Monash Health’s South East Public Health Unit (SEPHU) with a background in speech pathology and health promotion. Her work involves collaborating and coordinating activities with implementing partners across the south-east Melbourne catchment on vaping prevention. \n  \nFree for ACRA members. $30 for non-members
URL:https://www.acra.net.au/event/vaping-what-is-it-good-for-absolutely-nothing/
LOCATION:Online
END:VEVENT
END:VCALENDAR