BEGIN:VCALENDAR
VERSION:2.0
PRODID:-//ACRA - ECPv6.0.9//NONSGML v1.0//EN
CALSCALE:GREGORIAN
METHOD:PUBLISH
X-WR-CALNAME:ACRA
X-ORIGINAL-URL:https://www.acra.net.au
X-WR-CALDESC:Events for ACRA
REFRESH-INTERVAL;VALUE=DURATION:PT1H
X-Robots-Tag:noindex
X-PUBLISHED-TTL:PT1H
BEGIN:VTIMEZONE
TZID:Australia/Melbourne
BEGIN:STANDARD
TZOFFSETFROM:+1100
TZOFFSETTO:+1000
TZNAME:AEST
DTSTART:20240406T160000
END:STANDARD
BEGIN:DAYLIGHT
TZOFFSETFROM:+1000
TZOFFSETTO:+1100
TZNAME:AEDT
DTSTART:20241005T160000
END:DAYLIGHT
END:VTIMEZONE
BEGIN:VEVENT
DTSTART;TZID=Australia/Melbourne:20240417T123000
DTEND;TZID=Australia/Melbourne:20240417T133000
DTSTAMP:20260422T081518
CREATED:20240314T021753Z
LAST-MODIFIED:20240326T084600Z
UID:648712-1713357000-1713360600@www.acra.net.au
SUMMARY:Bottlenecks in supporting cardiac recovery: Addressing Cardiac Rehabilitation waitlists
DESCRIPTION:ACRA members Roschelle Brown\, Linda Macaulay and Susie Cartledge will be featured in this clinical conversation. \nJoin us to hear from our expert panel discussing the potential bottlenecks in commencement of cardiac rehabilitation after a cardiac event and what processes can be introduced to improve delays so those in need can receive timely access to secondary prevention support. \nCardiac rehabilitation (CR) is a crucial part of the recovery process for patients’ post-cardiac events such as heart attack or heart surgery. CR after a cardiac event has been consistently shown to reduce readmissions and improve quality of life\, supporting patient’s recovery and integration of secondary prevention activities into their daily life. \nAn extended waitlist for cardiac rehabilitation (CR) can have considerable consequences for patients and their caregivers. Delayed access to CR can lead to prolonged recovery times\, increased risk of complications\, lack of risk factor modification\, and reduced quality of life. The early recovery period is often a time of psychological distress during which patients can be supported and reassured by a cardiac rehab program soon after discharge. \nIn this clinical conversation\, our expert panel will discuss the potential bottlenecks in the current system\, root causes of extended waitlist and practical solutions that can be implemented by healthcare sectors to improve access to cardiac rehabilitation services. \nSCV’s Clinical Conversation Series are webinars providing a platform for people to explore speciality areas of healthcare by sharing and discussing key learnings from lived experience in the sector. They aim to promote peer to peer learning through conversation and shared experiences to improve and inform existing best practice. \nIt is free to attend\, and sessions are recorded for future distribution and viewing. \nHosted by Safer Care Victoria’s Cardiovascular Learning Health Network.
URL:https://www.acra.net.au/event/bottlenecks-in-supporting-cardiac-recovery-addressing-cardiac-rehabilitation-waitlists/
LOCATION:Online
END:VEVENT
END:VCALENDAR