BEGIN:VCALENDAR
VERSION:2.0
PRODID:-//ACRA - ECPv6.0.9//NONSGML v1.0//EN
CALSCALE:GREGORIAN
METHOD:PUBLISH
X-WR-CALNAME:ACRA
X-ORIGINAL-URL:https://www.acra.net.au
X-WR-CALDESC:Events for ACRA
REFRESH-INTERVAL;VALUE=DURATION:PT1H
X-Robots-Tag:noindex
X-PUBLISHED-TTL:PT1H
BEGIN:VTIMEZONE
TZID:Australia/Sydney
BEGIN:STANDARD
TZOFFSETFROM:+1100
TZOFFSETTO:+1000
TZNAME:AEST
DTSTART:20240406T160000
END:STANDARD
BEGIN:DAYLIGHT
TZOFFSETFROM:+1000
TZOFFSETTO:+1100
TZNAME:AEDT
DTSTART:20241005T160000
END:DAYLIGHT
END:VTIMEZONE
BEGIN:VEVENT
DTSTART;TZID=Australia/Sydney:20240307T153000
DTEND;TZID=Australia/Sydney:20240307T163000
DTSTAMP:20260422T094420
CREATED:20240123T023151Z
LAST-MODIFIED:20240123T023151Z
UID:648639-1709825400-1709829000@www.acra.net.au
SUMMARY:Sleep and Cardiovascular Disease - Webinar
DESCRIPTION:Rural Health West in conjunction with Heart Foundation\, WA Rheumatic Heart Disease Register and the Australian Cardiovascular Health and Rehabilitation Association invite you to this interactive webinar to assist health professionals working in rural areas. \nHosted by:\nHelen McLean – Past President ACRA-WA\, National Program Coordinator (Heart Support Australia) \nPresented by:\nTracy Swanson – Cardiac Rehabilitation Nurse Specialist (Ramsay Health Care) \nWebinar overview\n– Identify the impact of chronic sleep deprivation on cardiovascular health.\n– Understand the effects of caffeine\, alcohol\, technology\, and environment on – Learn how to implement strategies to improved sleep.\n– Understand what happens during sleep and why both quantity and quality are important factors for each night of rest.
URL:https://www.acra.net.au/event/sleep-and-cardiovascular-disease-webinar/
LOCATION:Online
END:VEVENT
END:VCALENDAR