BEGIN:VCALENDAR
VERSION:2.0
PRODID:-//ACRA - ECPv6.0.9//NONSGML v1.0//EN
CALSCALE:GREGORIAN
METHOD:PUBLISH
X-WR-CALNAME:ACRA
X-ORIGINAL-URL:https://www.acra.net.au
X-WR-CALDESC:Events for ACRA
REFRESH-INTERVAL;VALUE=DURATION:PT1H
X-Robots-Tag:noindex
X-PUBLISHED-TTL:PT1H
BEGIN:VTIMEZONE
TZID:Australia/Melbourne
BEGIN:STANDARD
TZOFFSETFROM:+1100
TZOFFSETTO:+1000
TZNAME:AEST
DTSTART:20230401T160000
END:STANDARD
BEGIN:DAYLIGHT
TZOFFSETFROM:+1000
TZOFFSETTO:+1100
TZNAME:AEDT
DTSTART:20230930T160000
END:DAYLIGHT
END:VTIMEZONE
BEGIN:VEVENT
DTSTART;TZID=Australia/Melbourne:20231028T083000
DTEND;TZID=Australia/Melbourne:20231028T120000
DTSTAMP:20260422T165455
CREATED:20231013T035637Z
LAST-MODIFIED:20231013T035843Z
UID:648495-1698481800-1698494400@www.acra.net.au
SUMMARY:ACRA SA/NT 2023 Educational Seminar
DESCRIPTION:
URL:https://www.acra.net.au/event/acra-sa-nt-2023-educational-seminar/
LOCATION:University of Adelaide\, North Terrace\, Adelaide\, SA\, Australia
ORGANIZER;CN="ACRA%20SA%2FNT":MAILTO:acrasant.secretary@gmail.com
END:VEVENT
END:VCALENDAR