BEGIN:VCALENDAR
VERSION:2.0
PRODID:-//ACRA - ECPv6.0.9//NONSGML v1.0//EN
CALSCALE:GREGORIAN
METHOD:PUBLISH
X-ORIGINAL-URL:https://www.acra.net.au
X-WR-CALDESC:Events for ACRA
REFRESH-INTERVAL;VALUE=DURATION:PT1H
X-Robots-Tag:noindex
X-PUBLISHED-TTL:PT1H
BEGIN:VTIMEZONE
TZID:Australia/Melbourne
BEGIN:STANDARD
TZOFFSETFROM:+1100
TZOFFSETTO:+1000
TZNAME:AEST
DTSTART:20230401T160000
END:STANDARD
BEGIN:DAYLIGHT
TZOFFSETFROM:+1000
TZOFFSETTO:+1100
TZNAME:AEDT
DTSTART:20230930T160000
END:DAYLIGHT
END:VTIMEZONE
BEGIN:VEVENT
DTSTART;TZID=Australia/Melbourne:20230426T100000
DTEND;TZID=Australia/Melbourne:20230426T110000
DTSTAMP:20260423T025135
CREATED:20230413T060626Z
LAST-MODIFIED:20230413T061555Z
UID:648198-1682503200-1682506800@www.acra.net.au
SUMMARY:External event: Social Prescribing and Older Adults (online forum)
DESCRIPTION:ACRA members may be interested in this online event from the Rehabilitation\, Ageing and Independent Living (RAIL) Research Centre. \nRegistration via https://forms.gle/LcKbHPQcPhQoWdwh7
URL:https://www.acra.net.au/event/external-event-social-prescribing-and-older-adults-online-forum/
LOCATION:Online
END:VEVENT
END:VCALENDAR