BEGIN:VCALENDAR
VERSION:2.0
PRODID:-//ACRA - ECPv6.0.9//NONSGML v1.0//EN
CALSCALE:GREGORIAN
METHOD:PUBLISH
X-WR-CALNAME:ACRA
X-ORIGINAL-URL:https://www.acra.net.au
X-WR-CALDESC:Events for ACRA
REFRESH-INTERVAL;VALUE=DURATION:PT1H
X-Robots-Tag:noindex
X-PUBLISHED-TTL:PT1H
BEGIN:VTIMEZONE
TZID:Australia/Adelaide
BEGIN:STANDARD
TZOFFSETFROM:+1030
TZOFFSETTO:+0930
TZNAME:ACST
DTSTART:20220402T163000
END:STANDARD
BEGIN:DAYLIGHT
TZOFFSETFROM:+0930
TZOFFSETTO:+1030
TZNAME:ACDT
DTSTART:20221001T163000
END:DAYLIGHT
END:VTIMEZONE
BEGIN:VEVENT
DTSTART;TZID=Australia/Adelaide:20221022T083000
DTEND;TZID=Australia/Adelaide:20221022T123000
DTSTAMP:20260423T113914
CREATED:20220920T094313Z
LAST-MODIFIED:20220920T094313Z
UID:647829-1666427400-1666441800@www.acra.net.au
SUMMARY:SA/NT Annual Scientific Meeting
DESCRIPTION:Australian Cardiovascular Health & Rehabilitation Association SA/NT 2022 Showcase \nCulturally appropriate care for Aboriginal peoples and remote models of care delivery \nSaturday 22nd October \nFlinders University\, Victoria Square\, Adelaide and online \nJoin us in person or online. Earn CPD points\, network with others and listen to a fabulous line up of speakers! \nOnly $50 for members\, students\, online attendance and $75 for non-members \nPlease see program here. \nBook now at: events.humanitix.com/acra-sa-nt-showcase \nEnquiries: acrasant.secretary@gmail.com
URL:https://www.acra.net.au/event/sa-nt-annual-scientific-meeting/
LOCATION:Flinders University\, Sturt Rd\, Bedford Park\, South Australia\, 5042\, Australia
ORGANIZER;CN="ACRA%20SA%2FNT":MAILTO:acrasant.secretary@gmail.com
END:VEVENT
END:VCALENDAR