BEGIN:VCALENDAR
VERSION:2.0
PRODID:-//ACRA - ECPv6.0.9//NONSGML v1.0//EN
CALSCALE:GREGORIAN
METHOD:PUBLISH
X-WR-CALNAME:ACRA
X-ORIGINAL-URL:https://www.acra.net.au
X-WR-CALDESC:Events for ACRA
REFRESH-INTERVAL;VALUE=DURATION:PT1H
X-Robots-Tag:noindex
X-PUBLISHED-TTL:PT1H
BEGIN:VTIMEZONE
TZID:Australia/Melbourne
BEGIN:STANDARD
TZOFFSETFROM:+1100
TZOFFSETTO:+1000
TZNAME:AEST
DTSTART:20220402T160000
END:STANDARD
BEGIN:DAYLIGHT
TZOFFSETFROM:+1000
TZOFFSETTO:+1100
TZNAME:AEDT
DTSTART:20221001T160000
END:DAYLIGHT
END:VTIMEZONE
BEGIN:VEVENT
DTSTART;TZID=Australia/Melbourne:20221007T084500
DTEND;TZID=Australia/Melbourne:20221007T170000
DTSTAMP:20260423T113914
CREATED:20220913T081112Z
LAST-MODIFIED:20220913T081853Z
UID:647816-1665132300-1665162000@www.acra.net.au
SUMMARY:ACRA Victoria State Conference - Friday 7th October\, in-person and online
DESCRIPTION:
URL:https://www.acra.net.au/event/acra-victoria-state-conference-friday-7th-october-in-person-and-online/
LOCATION:William Angliss Conference Centre\, 555 La Trobe St\, Melbourne\, VIC\, 3000\, Australia
ORGANIZER;CN="ACRA%20Victoria":MAILTO:acravictoriacommittee@gmail.com
END:VEVENT
END:VCALENDAR