BEGIN:VCALENDAR
VERSION:2.0
PRODID:-//ACRA - ECPv6.0.9//NONSGML v1.0//EN
CALSCALE:GREGORIAN
METHOD:PUBLISH
X-ORIGINAL-URL:https://www.acra.net.au
X-WR-CALDESC:Events for ACRA
REFRESH-INTERVAL;VALUE=DURATION:PT1H
X-Robots-Tag:noindex
X-PUBLISHED-TTL:PT1H
BEGIN:VTIMEZONE
TZID:Australia/Melbourne
BEGIN:STANDARD
TZOFFSETFROM:+1100
TZOFFSETTO:+1000
TZNAME:AEST
DTSTART:20210403T160000
END:STANDARD
BEGIN:DAYLIGHT
TZOFFSETFROM:+1000
TZOFFSETTO:+1100
TZNAME:AEDT
DTSTART:20211002T160000
END:DAYLIGHT
END:VTIMEZONE
BEGIN:VEVENT
DTSTART;TZID=Australia/Melbourne:20210501T083000
DTEND;TZID=Australia/Melbourne:20210501T130000
DTSTAMP:20260424T091846
CREATED:20210308T121003Z
LAST-MODIFIED:20210412T052519Z
UID:646921-1619857800-1619874000@www.acra.net.au
SUMMARY:Education event: Lifestyle and Cardiovascular Disease
DESCRIPTION:Education Seminar: Lifestyle and Cardiovascular Disease presented by ACRA SA/NT\nDate: Saturday 1st May 2021\nTime: 0830-1300hrs\nLocation: Flinders University\, Victoria Square and virtual attendance via Zoom (link to be provided following registration)\nRSVP: Sanchia Shute via acrasant.secretary@gmail.com by COB Friday 23rd April 2021. Please indicate mode of attendance in RSVP – in person or Zoom.\nCost: Free to ACRA members\, $100 for non-members\, $50 for virtual attendance \n\n3 CPD hours (ACRA administration fee waived if you become a member on the day) \nEvent kindly sponsored by Pfizer and Astra Zeneca
URL:https://www.acra.net.au/event/education-event-lifestyle-and-cardiovascular-disease/
LOCATION:Flinders University\, Sturt Rd\, Bedford Park\, South Australia\, 5042\, Australia
END:VEVENT
END:VCALENDAR