BEGIN:VCALENDAR
VERSION:2.0
PRODID:-//ACRA - ECPv6.0.9//NONSGML v1.0//EN
CALSCALE:GREGORIAN
METHOD:PUBLISH
X-ORIGINAL-URL:https://www.acra.net.au
X-WR-CALDESC:Events for ACRA
REFRESH-INTERVAL;VALUE=DURATION:PT1H
X-Robots-Tag:noindex
X-PUBLISHED-TTL:PT1H
BEGIN:VTIMEZONE
TZID:UTC
BEGIN:STANDARD
TZOFFSETFROM:+0000
TZOFFSETTO:+0000
TZNAME:UTC
DTSTART:20210101T000000
END:STANDARD
END:VTIMEZONE
BEGIN:VEVENT
DTSTART;VALUE=DATE:20210304
DTEND;VALUE=DATE:20210307
DTSTAMP:20260424T113049
CREATED:20200202T021902Z
LAST-MODIFIED:20200619T000249Z
UID:526593-1614816000-1615075199@www.acra.net.au
SUMMARY:Australian College of Nurse Practitioners (ACNP) National Conference 2021
DESCRIPTION:In 2021\, the ACNP will be celebrating 20 Years of Nurse Practitioners in Australia and they look forward to celebrating with Delegates\, Sponsors and Exhibitors. \nThe ACNP National Conference gathers more than 300+ senior health practitioners providing an exciting program\, including welcome reception\, keynote speakers\, workshops\, and the gala awards dinner. \nThe conference is a perfect networking opportunity for all delegates\, to inspire leadership and enhance clinical expertise. \n 
URL:https://www.acra.net.au/event/australian-college-of-nurse-practitioners-acnp-national-conference-2020/
LOCATION:QT Hotel Gold Coast\, 7 Staghorn Ave\, Surfers Paradise\, Queensland\, 4217\, Australia
END:VEVENT
END:VCALENDAR