BEGIN:VCALENDAR
VERSION:2.0
PRODID:-//ACRA - ECPv6.0.9//NONSGML v1.0//EN
CALSCALE:GREGORIAN
METHOD:PUBLISH
X-ORIGINAL-URL:https://www.acra.net.au
X-WR-CALDESC:Events for ACRA
REFRESH-INTERVAL;VALUE=DURATION:PT1H
X-Robots-Tag:noindex
X-PUBLISHED-TTL:PT1H
BEGIN:VTIMEZONE
TZID:Australia/Melbourne
BEGIN:STANDARD
TZOFFSETFROM:+1100
TZOFFSETTO:+1000
TZNAME:AEST
DTSTART:20200404T160000
END:STANDARD
BEGIN:DAYLIGHT
TZOFFSETFROM:+1000
TZOFFSETTO:+1100
TZNAME:AEDT
DTSTART:20201003T160000
END:DAYLIGHT
END:VTIMEZONE
BEGIN:VEVENT
DTSTART;TZID=Australia/Melbourne:20201007T123000
DTEND;TZID=Australia/Melbourne:20201007T132000
DTSTAMP:20260424T173541
CREATED:20200917T122230Z
LAST-MODIFIED:20200917T122230Z
UID:605380-1602073800-1602076800@www.acra.net.au
SUMMARY:UQ Centre for Online Health Telehealth Webinar: A 21st century (and pandemic friendly) approach to delivering cardiac rehabilitation
DESCRIPTION:In response to the COVID-19 pandemic\, the Centre for Online Health has partnered with the Australasian Telehealth Society (ATHS) to provide monthly webinars. The webinars will include a short presentation (20-30 minutes) on a specific telehealth topic\, and a Q&A panel discussion (20 minutes) involving experts from the COH and the ATHS. \nOctober’s webinar will discuss how evidence-based mobile health interventions can improve the reach and accessibility of cardiac rehabilitation for people who are unable to attend existing centre-based programs. It will also explore potential interest in and opportunities for collaboration and partnerships to translate research evidence into clinical practice. \nPresented by ACRA member:\nDr Jonathan Rawstorn\nJonathan is a Heart Foundation Postdoctoral Fellow at Deakin University’s Institute for Physical Activity and Nutrition (IPAN). His research focuses on telerehabilitation program design\, development\, evaluation\, and most recently translation into clinical practice. \nParticipants are encouraged to send their questions to enquiries@coh.uq.edu.au and the panel members will do their best to address these. \nPanelists month include:\n• Dr Rita Hwang\, Physiotherapist\, Princess Alexandra Hospital & Adjunct Fellow\, Centre for Online Health\, CHSR\n• Dr Emma Thomas\, Research Fellow\, Centre for Online Health\, CHSR\n• Associate Professor Liam Caffery\, Telehealth Technology Director\, Centre for Online Health\, CHSR\n• Professor Anthony Smith\, Director\, Centre for Online Health\, CHSR (Webinar Chairperson) \nTime 12:30pm – 1:00pm (Seminar Presentation)\n1:00pm – 1:20pm (Panel Discussion)\nLocation Zoom Only (see details below) \nPlease note this meeting is a Zoom Only Webinar. \nEvent details: https://coh.centre.uq.edu.au/event/session/633 \nShould you have any questions or require further information\, please contact the COH
URL:https://www.acra.net.au/event/uq-centre-for-online-health-telehealth-webinar-a-21st-century-and-pandemic-friendly-approach-to-delivering-cardiac-rehabilitation/
LOCATION:Zoom Videoconference\, Australia
END:VEVENT
END:VCALENDAR