BEGIN:VCALENDAR
VERSION:2.0
PRODID:-//ACRA - ECPv6.0.9//NONSGML v1.0//EN
CALSCALE:GREGORIAN
METHOD:PUBLISH
X-ORIGINAL-URL:https://www.acra.net.au
X-WR-CALDESC:Events for ACRA
REFRESH-INTERVAL;VALUE=DURATION:PT1H
X-Robots-Tag:noindex
X-PUBLISHED-TTL:PT1H
BEGIN:VTIMEZONE
TZID:UTC
BEGIN:STANDARD
TZOFFSETFROM:+0000
TZOFFSETTO:+0000
TZNAME:UTC
DTSTART:20200101T000000
END:STANDARD
END:VTIMEZONE
BEGIN:VEVENT
DTSTART;TZID=UTC:20200526T190000
DTEND;TZID=UTC:20200526T200000
DTSTAMP:20260425T011612
CREATED:20200512T014036Z
LAST-MODIFIED:20200512T014036Z
UID:561457-1590519600-1590523200@www.acra.net.au
SUMMARY:Ask the experts: Caring for people with CVD during COVID-19 (Heart Foundation)
DESCRIPTION:  \nTogether with the Royal Australian College of General Practitioners (RACGP)\, Australian Primary Health Care Nurses Association (APNA) and NPS MedicineWise\, the Heart Foundation is hosting an ‘ask the expert’ style webinar aiming to: \n\nExplore the link between COVID-19 and CVD\, including the cardiac manifestations of the infection \nHighlight key takeaways from recent guidance produced by the Cardiac Society of Australia & New Zealand relating to the management of CVD during the COVID-19 pandemic \nExchange strategies to stay connected with cardiac patients in the community and support maintenance of their treatment and medication plans \nProvide advice on how to leverage recent MBS and medicine related policy changes to support the management of CVD in primary care\n\nMore information and registration details here >> https://kapara.rdbk.com.au/landers/cbb9e5.html \n 
URL:https://www.acra.net.au/event/ask-the-experts-caring-for-people-with-cvd-during-covid-19-heart-foundation/
END:VEVENT
END:VCALENDAR