BEGIN:VCALENDAR
VERSION:2.0
PRODID:-//ACRA - ECPv6.0.9//NONSGML v1.0//EN
CALSCALE:GREGORIAN
METHOD:PUBLISH
X-ORIGINAL-URL:https://www.acra.net.au
X-WR-CALDESC:Events for ACRA
REFRESH-INTERVAL;VALUE=DURATION:PT1H
X-Robots-Tag:noindex
X-PUBLISHED-TTL:PT1H
BEGIN:VTIMEZONE
TZID:Australia/Brisbane
BEGIN:STANDARD
TZOFFSETFROM:+1000
TZOFFSETTO:+1000
TZNAME:AEST
DTSTART:20200101T000000
END:STANDARD
END:VTIMEZONE
BEGIN:VEVENT
DTSTART;TZID=Australia/Brisbane:20200515T153000
DTEND;TZID=Australia/Brisbane:20200515T163000
DTSTAMP:20260425T011612
CREATED:20200507T030334Z
LAST-MODIFIED:20200507T030334Z
UID:559722-1589556600-1589560200@www.acra.net.au
SUMMARY:Free ACRA Webinar: Rehab for Rehab during the COVID-19 pandemic
DESCRIPTION:ACRA is pleased to present an online webinar to support members and CR clinicians during the COVID-19 pandemic. Learn about resources from the Heart Foundation\, ACRA and other sources; the alternate models of CR care currently available; how you can use telehealth in your program; and hear from CR programs who have already adapted their practice. There will also be time for a panel Q and A with all speakers and participants during the webinar.\n\n\nLOCATION\nOnline Zoom meeting accessible from PC\, phone and tablet\nLog-in details to be sent to registered delegates closer to the event
URL:https://www.acra.net.au/event/free-acra-webinar-rehab-for-rehab-during-the-covid-19-pandemic/
LOCATION:Zoom Videoconference\, Australia
END:VEVENT
END:VCALENDAR