BEGIN:VCALENDAR
VERSION:2.0
PRODID:-//ACRA - ECPv6.0.9//NONSGML v1.0//EN
CALSCALE:GREGORIAN
METHOD:PUBLISH
X-WR-CALNAME:ACRA
X-ORIGINAL-URL:https://www.acra.net.au
X-WR-CALDESC:Events for ACRA
REFRESH-INTERVAL;VALUE=DURATION:PT1H
X-Robots-Tag:noindex
X-PUBLISHED-TTL:PT1H
BEGIN:VTIMEZONE
TZID:UTC
BEGIN:STANDARD
TZOFFSETFROM:+0000
TZOFFSETTO:+0000
TZNAME:UTC
DTSTART:20200101T000000
END:STANDARD
END:VTIMEZONE
BEGIN:VEVENT
DTSTART;TZID=UTC:20200506T163000
DTEND;TZID=UTC:20200506T171500
DTSTAMP:20260425T011339
CREATED:20200430T040428Z
LAST-MODIFIED:20200430T040428Z
UID:557311-1588782600-1588785300@www.acra.net.au
SUMMARY:Management of Coronary Artery Disease in the COVID-19 Era: Novartis Heart Meeting Series 2020
DESCRIPTION:CVClinic’s and Novartis welcome you to their upcoming Webinar: “Management of Coronary Artery Disease in the COVID-19 Era” \nPlease register you attendance here: https://www.addevent.com/event/Kh4805064 \n\nDr Yee Weng Wong\, Chair\nDr Brendan Bell\, Presenter\n\n 
URL:https://www.acra.net.au/event/management-of-coronary-artery-disease-in-the-covid-19-era-novartis-heart-meeting-series-2020/
END:VEVENT
END:VCALENDAR