BEGIN:VCALENDAR
VERSION:2.0
PRODID:-//ACRA - ECPv6.0.9//NONSGML v1.0//EN
CALSCALE:GREGORIAN
METHOD:PUBLISH
X-ORIGINAL-URL:https://www.acra.net.au
X-WR-CALDESC:Events for ACRA
REFRESH-INTERVAL;VALUE=DURATION:PT1H
X-Robots-Tag:noindex
X-PUBLISHED-TTL:PT1H
BEGIN:VTIMEZONE
TZID:Australia/Melbourne
BEGIN:STANDARD
TZOFFSETFROM:+1100
TZOFFSETTO:+1000
TZNAME:AEST
DTSTART:20200404T160000
END:STANDARD
BEGIN:DAYLIGHT
TZOFFSETFROM:+1000
TZOFFSETTO:+1100
TZNAME:AEDT
DTSTART:20201003T160000
END:DAYLIGHT
END:VTIMEZONE
BEGIN:VEVENT
DTSTART;TZID=Australia/Melbourne:20200424T220000
DTEND;TZID=Australia/Melbourne:20200424T230000
DTSTAMP:20260425T023334
CREATED:20200415T143016Z
LAST-MODIFIED:20200415T143016Z
UID:552146-1587765600-1587769200@www.acra.net.au
SUMMARY:Free Webinar: COVID-19 and Cardiac Rehabilitation
DESCRIPTION:A free webinar/panel discussion will be led by the International Council of Cardiovascular Prevention and Rehabilitation (ICCPR) on CR and COVID-19. This will be an opportunity to hear from ICCPR members on what they are doing in order to adapt CR amidst this pandemic. An Australian perspective will also be presented. \nPlease register by emailing: globalcardiacrehab@gmail.com
URL:https://www.acra.net.au/event/unpacking-the-a-pathway-to-cardiac-recovery-standardised-program-content-for-phase-ii-cardiac-rehabilitation-2/
LOCATION:Webinar
END:VEVENT
END:VCALENDAR