BEGIN:VCALENDAR
VERSION:2.0
PRODID:-//ACRA - ECPv6.0.9//NONSGML v1.0//EN
CALSCALE:GREGORIAN
METHOD:PUBLISH
X-ORIGINAL-URL:https://www.acra.net.au
X-WR-CALDESC:Events for ACRA
REFRESH-INTERVAL;VALUE=DURATION:PT1H
X-Robots-Tag:noindex
X-PUBLISHED-TTL:PT1H
BEGIN:VTIMEZONE
TZID:UTC
BEGIN:STANDARD
TZOFFSETFROM:+0000
TZOFFSETTO:+0000
TZNAME:UTC
DTSTART:20200101T000000
END:STANDARD
END:VTIMEZONE
BEGIN:VEVENT
DTSTART;TZID=UTC:20200421T163000
DTEND;TZID=UTC:20200421T171500
DTSTAMP:20260425T022809
CREATED:20200430T040709Z
LAST-MODIFIED:20200430T040709Z
UID:557316-1587486600-1587489300@www.acra.net.au
SUMMARY:Clinical updates on the Management of Structural Heart Disease in the COVID-19 Era: Novartis Heart Meeting Series 2020 Novartis
DESCRIPTION:Clinical updates on the Management of Structural Heart Disease in the COVID-19 Era from Novartis \nChair: Dr Yee Weng Wong \nDr Karl Poon\, https://drkarlpoon.com.au/ \nDr Alexander Incani\, http://cvclinics.com.au/about-us/dr-alexander-incani/
URL:https://www.acra.net.au/event/clinical-updates-on-the-management-of-structural-heart-disease-in-the-covid-19-era-novartis-heart-meeting-series-2020-novartis/
END:VEVENT
END:VCALENDAR