BEGIN:VCALENDAR
VERSION:2.0
PRODID:-//ACRA - ECPv6.0.9//NONSGML v1.0//EN
CALSCALE:GREGORIAN
METHOD:PUBLISH
X-ORIGINAL-URL:https://www.acra.net.au
X-WR-CALDESC:Events for ACRA
REFRESH-INTERVAL;VALUE=DURATION:PT1H
X-Robots-Tag:noindex
X-PUBLISHED-TTL:PT1H
BEGIN:VTIMEZONE
TZID:UTC
BEGIN:STANDARD
TZOFFSETFROM:+0000
TZOFFSETTO:+0000
TZNAME:UTC
DTSTART:20190101T000000
END:STANDARD
END:VTIMEZONE
BEGIN:VEVENT
DTSTART;TZID=UTC:20191025T083000
DTEND;TZID=UTC:20191025T160000
DTSTAMP:20260425T093344
CREATED:20190411T163326Z
LAST-MODIFIED:20190903T195008Z
UID:423962-1571992200-1572019200@www.acra.net.au
SUMMARY:ACRA-Qld Annual Symposium: Beyond the everyday
DESCRIPTION:Secondary Prevention in Cardiology: Beyond the Everyday\nThis event will feature a mixture of invited speakers\, clinical and research topics\, and plenty of networking opportunities. The Symposium will provide a space to explore what’s new and innovative in cardiovascular secondary prevention; showcase fresh approaches to cardiac rehabilitation; share inspiring patient experiences in cardiovascular care; and reveal the latest initiatives to advance of Cardiac Rehabilitation in Queensland. \nWe have tailored the program to cover a range of topics which are “beyond the everyday” bread and butter of practice and will interest a broad cross-section of attendees. Planned topics include: \n\nOvercoming complications of surgery encountered in Cardiac Rehabilitation\nEffect of exercise therapy in CVD Surgical Patients\nA mobile app to support Aboriginal and Torres Strait people attend Cardiac Rehabilitation\nSpontaneous Coronary Artery Dissection treatment options and Cardiac Rehabilitation\nPositive Cardiac Rehabilitation outcomes in Pulmonary Hypertension\nUpdates from the Heart Foundation and Statewide Cardiac Clinical Network\nAn opportunity to submit your work for presentation as a poster throughout the symposium\nMorning tea\, lunch breaks\, afternoon tea and social event at the symposium close to enable networking with colleagues old and new\n\nCome join us for what will be a fantastic opportunity to shine a spotlight on the great work being done in Queensland. As in previous years we will also be offering the symposium via video-conference link (limited places) for those from outside the Brisbane  area who cannot attend in person. \nREGISTRATION FEES:
URL:https://www.acra.net.au/event/acra-qld-annual-symposium-beyond-the-everyday/
LOCATION:Russell Strong Auditorium\, Princess Alexandra Hospital\, 199 Ipswich Rd\, Woolloongabba\, Brisbane\, Queensland\, 4102\, Australia
ORGANIZER;CN="ACRA-Qld":MAILTO:qcra@acra.net.au
END:VEVENT
END:VCALENDAR