BEGIN:VCALENDAR
VERSION:2.0
PRODID:-//ACRA - ECPv6.0.9//NONSGML v1.0//EN
CALSCALE:GREGORIAN
METHOD:PUBLISH
X-WR-CALNAME:ACRA
X-ORIGINAL-URL:https://www.acra.net.au
X-WR-CALDESC:Events for ACRA
REFRESH-INTERVAL;VALUE=DURATION:PT1H
X-Robots-Tag:noindex
X-PUBLISHED-TTL:PT1H
BEGIN:VTIMEZONE
TZID:UTC
BEGIN:STANDARD
TZOFFSETFROM:+0000
TZOFFSETTO:+0000
TZNAME:UTC
DTSTART:20180101T000000
END:STANDARD
END:VTIMEZONE
BEGIN:VEVENT
DTSTART;TZID=UTC:20181012T080000
DTEND;TZID=UTC:20181012T170000
DTSTAMP:20260426T021958
CREATED:20180913T141133Z
LAST-MODIFIED:20180913T141133Z
UID:348008-1539331200-1539363600@www.acra.net.au
SUMMARY:ACRA NSW and ACT 2018 Annual Scientific Meeting (ASM)
DESCRIPTION:Registrations are open for The Australian Cardiovascular Health and Rehabilitation Association (ACRA) of NSW and ACT Inc. 2018 Annual Scientific Meeting (ASM). \nJoin us on….\nDate: Friday\, 12 October 2018\nVenue: Kirribilli Club\, Lavender Bay\nTime: 8:00am – 5:00pm \nThe theme for the 2018 ASM is “What’s new and emerging in cardiovascular health?”\, and it will be echoed throughout the conference as we look at what is challenging\, new and different in cardiovascular disease. \nFor pricing\, Terms and Conditions\, venue information and program go to https://www.trybooking.com/book/event?eid=388577&\nEarly bird prices end Friday\, 21 September 2018.
URL:https://www.acra.net.au/event/acra-nsw-and-act-2018-annual-scientific-meeting-asm/
END:VEVENT
BEGIN:VEVENT
DTSTART;TZID=UTC:20181012T080000
DTEND;TZID=UTC:20181012T170000
DTSTAMP:20260426T021958
CREATED:20180913T141955Z
LAST-MODIFIED:20180913T141955Z
UID:348013-1539331200-1539363600@www.acra.net.au
SUMMARY:ACRA VIC Education Day
DESCRIPTION:ACRA Victoria are pleased to offer their next Education Day via Video Conference again for both rural members in Victoria\, ACRA members and cardiac rehabilitation colleagues nationally.  \nTickets are available:  \n– Face to face tickets: https://www.trybooking.com/book/event?eid=401797& ($60 members\, $120 non-members) \n– Video conference tickets: https://www.trybooking.com/book/event?eid=401801& ($40\, designed for our rural and interstate members\, can be joined from standard internet connection\, recording of day available within 1 week of event for watching at a later date)
URL:https://www.acra.net.au/event/acra-vic-education-day/
END:VEVENT
END:VCALENDAR