BEGIN:VCALENDAR
VERSION:2.0
PRODID:-//ACRA - ECPv6.0.9//NONSGML v1.0//EN
CALSCALE:GREGORIAN
METHOD:PUBLISH
X-ORIGINAL-URL:https://www.acra.net.au
X-WR-CALDESC:Events for ACRA
REFRESH-INTERVAL;VALUE=DURATION:PT1H
X-Robots-Tag:noindex
X-PUBLISHED-TTL:PT1H
BEGIN:VTIMEZONE
TZID:UTC
BEGIN:STANDARD
TZOFFSETFROM:+0000
TZOFFSETTO:+0000
TZNAME:UTC
DTSTART:20180101T000000
END:STANDARD
END:VTIMEZONE
BEGIN:VEVENT
DTSTART;VALUE=DATE:20181004
DTEND;VALUE=DATE:20181006
DTSTAMP:20260426T022036
CREATED:20180312T150101Z
LAST-MODIFIED:20180403T172523Z
UID:283100-1538611200-1538783999@www.acra.net.au
SUMMARY:BACPR Annual Conference 2018 - 'Improving Performance and Outcomes'
DESCRIPTION:  \n \n 
URL:https://www.acra.net.au/event/bacpr-annual-conference-2018-improving-performance-and-outcomes-bacpr-conference-2018-flyer/
LOCATION:Grand Central Hotel\, Glasgow
END:VEVENT
END:VCALENDAR