BEGIN:VCALENDAR
VERSION:2.0
PRODID:-//ACRA - ECPv6.0.9//NONSGML v1.0//EN
CALSCALE:GREGORIAN
METHOD:PUBLISH
X-WR-CALNAME:ACRA
X-ORIGINAL-URL:https://www.acra.net.au
X-WR-CALDESC:Events for ACRA
REFRESH-INTERVAL;VALUE=DURATION:PT1H
X-Robots-Tag:noindex
X-PUBLISHED-TTL:PT1H
BEGIN:VTIMEZONE
TZID:UTC
BEGIN:STANDARD
TZOFFSETFROM:+0000
TZOFFSETTO:+0000
TZNAME:UTC
DTSTART:20180101T000000
END:STANDARD
END:VTIMEZONE
BEGIN:VEVENT
DTSTART;TZID=UTC:20180305T084500
DTEND;TZID=UTC:20180305T170000
DTSTAMP:20260426T113202
CREATED:20171120T192620Z
LAST-MODIFIED:20180227T171822Z
UID:243738-1520239500-1520269200@www.acra.net.au
SUMMARY:Victorian Education Day 2018!
DESCRIPTION:Victorian Education Day 2018\nMonday\, 5th March 2018\nAttend in person or via video conference!\n“Technology in Cardiac Care”\nCliftons Melbourne\n Level 1\, 440 Collins St\, Melbourne\n  \nEarly Bird Tickets!\nPurchase your ticket before Friday\, 23 February to be in the draw to win a sethoscope!*\n*(Face to face attendees only)\n\nPROGRAM AVAILABLE HERE\nConfirmed speakers:\nRox Johnston\, TAVI Coordinator and Research Nurse\, Alfred Health\nTAVI – The trajectory of patient management from pre-op to rehab \nEmma Thomas\, PhD Candidate\, Melbourne School of Population and Global Health\nFeasibility of utilising a data scraping tool to develop a cardiac rehabilitation registry \nMeagan-Jane Adams\, Advanced Care Planning Coordinator\, Bendigo Health\nUpdate to legislation changes \nTony Hall\, Respiratory Nurse Practitioner\, Bendigo Health\nRight Heart Failure – the other side to breathlessness \nDr Emily Kotschet\, Electrophysiologist\nCardiac devices \nDr Jonathan Rawstorn\, Research Fellow\, Institute of Physical Activity and Nutrition\, Deakin University\nTelerehabilitation – friend or foe? \n  \nACRA members $60\, Non-members $120 attending in person\nFace to Face Tickets: https://www.trybooking.com/TTAH\nTea and coffee on arrival\, morning tea and lunch included! \nThis event will also be available via videoconference from standard internet connections for $40\nVideoconferencing Tickets: https://www.trybooking.com/TTAL \nAlternatively go to www.trybooking.com and search ‘ACRA_ Victoria’.\nEnquiries to acravictoria@acra.net.au \n  \nWith thanks to our sponsors:\nGOLD SPONSOR \n \nSILVER SPONSOR \n \nBRONZE SPONSOR
URL:https://www.acra.net.au/event/victorian-education-day-2018/
LOCATION:Cliftons Melbourne\, 440 Collins St\, Melbourne \, Victoria\, 3000\, Australia
ATTACH;FMTTYPE=image/jpeg:https://www.acra.net.au/wp-content/uploads/2016/03/VACR-Logo.jpg
ORGANIZER;CN="ACRA%20Victoria":MAILTO:acravictoriacommittee@gmail.com
END:VEVENT
END:VCALENDAR